Workbook

Sheet Источники фин.
F3: Приложение 1
F4: к приложению 1
F5: решения Совета депутатов
F6: Виллозское городское поселение
F7: от "06" ноября 2019 г. № 18___
A9: ИСТОЧНИКИ ФИНАНСИРОВАНИЯ ДЕФИЦИТА МЕСТНОГО БЮДЖЕТА муниципального образования Виллозское городское поселение Ломоносовского муниципального района Ленинградской области на 2020 год и плановый период 2021 и 2022 годов
A10: № п/п | B10: Наименование источника | C10: Код бюджетной классификации | D10: Планируемый объем, тыс. руб.
D11: 2020 год | E11: 2021 год | F11: 2022 год
A12: 1. | B12: Изменение остатков средств на счетах по учету средств бюджета | C12: 905 01 05 00 00 00 0000 000 | D12: =D13 -> 223012.3 | E12: =E13 -> 8163.5 | F12: =F13 -> 20875.5
A13: 1.1. | B13: Изменение прочих остатков денежных средств бюджетов | C13: 905 01 05 02 01 00 0000 000 | D13: ='Расходы функц. 2016'!E11-'Доходы 16'!D32 -> 223012.3 | E13: ='Расходы функц. 2016'!F11-'Доходы 16'!E32 -> 8163.5 | F13: ='Расходы функц. 2016'!G11-'Доходы 16'!F32 -> 20875.5

Sheet Доходы 16
F1: Приложение 2
F2: к приложению 1
F3: решения Совета депутатов
F4: Виллозское городское поселение
F5: от "06" ноября 2019 г. № 18
A7: ПОСТУПЛЕНИЕ ДОХОДОВ В МЕСТНЫЙ БЮДЖЕТ муниципального образования Виллозское городское поселение Ломоносовского муниципального района Ленинградской области на 2020 год и плановый период 2021 и 2022 годов
A8: № п/п | B8: Код доходов | C8: Наименование статьи доходов | D8: Сумма, тыс.руб.
D9: 2020 год | E9: 2021 год | F9: 2022 год
B10: 1 00 00000 00 0000 000 | C10: НАЛОГОВЫЕ И НЕНАЛОГОВЫЕ ДОХОДЫ | D10: =D11+D13+D18+D26+D23+D21+D29 -> 341300.7 | E10: =E11+E13+E18+E26+E23+E21+E29 -> 357684.5 | F10: =F11+F13+F18+F26+F23+F21+F29 -> 375562.5
A11: 1. | B11: 1 01 00000 00 0000 000 | C11: НАЛОГИ НА ПРИБЫЛЬ, ДОХОДЫ | D11: =D12 -> 198012 | E11: =E12 -> 211279 | F11: =F12 -> 226069
A12: 1.1. | B12: 1 01 02000 01 0000 110 | C12: Налог на доходы физических лиц | D12: 198012 | E12: 211279 | F12: 226069
A13: 2. | B13: 1 03 00000 00 0000 000 | C13: НАЛОГИ НА ТОВАРЫ (РАБОТЫ, УСЛУГИ), РЕАЛИЗУЕМЫЕ НА ТЕРРИТОРИИ РОССИЙСКОЙ ФЕДЕРАЦИИ | D13: =D14+D15+D16+D17 -> 1226.6 | E13: =E14+E15+E16+E17 -> 1361.9 | F13: =F14+F15+F16+F17 -> 1361.9
A14: 2.1. | B14: 1 03 02230 01 0000 110 | C14: Доходы от уплаты акцизов на дизельное топливо, подлежащие распределению между бюджетами субъектов Российской Федерации и местными бюджетами с учетом установленных дифференцированных нормативов отчислений в местные бюджеты | D14: 556 | E14: 616.9 | F14: 616.9
A15: 2.2. | B15: 1 03 02240 01 0000 110 | C15: Доходы от уплаты акцизов на моторные масла для дизельных и (или) карбюраторных (инжекторных) двигателей, подлежащие распределению между бюджетами субъектов Российской Федерации и местными бюджетами с учетом установленных дифференцированных нормативов отчислений в местные бюджеты | D15: 3 | E15: 3 | F15: 3
A16: 2.3. | B16: 1 03 02250 01 0000 110 | C16: Доходы от уплаты акцизов на автомобильный бензин, подлежащие распределению между бюджетами субъектов Российской Федерации и местными бюджетами с учетом установленных дифференцированных нормативов отчислений в местные бюджеты | D16: 666.6 | E16: 741 | F16: 741
A17: 2.4. | B17: 1 03 02260 01 0000 110 | C17: Доходы от уплаты акцизов на прямогонный бензин, подлежащие распределению между бюджетами субъектов Российской Федерации и местными бюджетами с учетом установленных дифференцированных нормативов отчислений в местные бюджеты | D17: 1 | E17: 1 | F17: 1
A18: 3. | B18: 1 06 00000 00 0000 000 | C18: НАЛОГИ НА ИМУЩЕСТВО | D18: =D19+D20 -> 131022.1 | E18: =E19+E20 -> 133713.8 | F18: =F19+F20 -> 136462
A19: 3.1. | B19: 1 06 01000 00 0000 110 | C19: Налог на имущество физических лиц | D19: 3561.3 | E19: 3703.8 | F19: 3851.9
A20: 3.3. | B20: 1 06 06000 00 0000 110 | C20: Земельный налог | D20: 127460.8 | E20: 130010 | F20: 132610.1
A21: 4. | B21: 1 08 00000 00 0000 000 | C21: ГОСУДАРСТВЕННАЯ ПОШЛИНА | D21: =D22 -> 5 | E21: =E22 -> 4.8 | F21: =F22 -> 4.6
A22: 4.1. | B22: 1 08 04000 01 0000 110 | C22: Государственная пошлина за совершение нотариальных действий (за исключением действий, совершаемых консульскими учреждениями Российской Федерации) | D22: 5 | E22: 4.8 | F22: 4.6
A23: 5. | B23: 1 11 00000 00 0000 000 | C23: ДОХОДЫ ОТ ИСПОЛЬЗОВАНИЯ ИМУЩЕСТВА, НАХОДЯЩЕГОСЯ В ГОСУДАРСТВЕННОЙ И МУНИЦИПАЛЬНОЙ СОБСТВЕННОСТИ | D23: =D24+D25 -> 9260 | E23: =E24+E25 -> 9550 | F23: =F24+F25 -> 9890
A24: 5.1. | B24: 1 11 05000 00 0000 120 | C24: Доходы, получаемые в виде арендной либо иной платы за передачу в возмездное пользование государственного и муниципального имущества (за исключением имущества бюджетных и автономных учреждений, а также имущества государственных и муниципальных унитарных предприятий, в том числе казенных) | D24: 8810 | E24: 9110 | F24: 9460
A25: 5.3. | B25: 1 11 09000 00 0000 120 | C25: Прочие доходы от использования имущества и прав, находящихся в государственной и муниципальной собственности (за исключением имущества бюджетных и автономных учреждений, а также имущества государственных и муниципальных унитарных предприятий, в том числе казенных) | D25: 450 | E25: 440 | F25: 430
A26: 6. | B26: 1 14 00000 00 0000 000 | C26: ДОХОДЫ ОТ ПРОДАЖИ МАТЕРИАЛЬНЫХ И НЕМАТЕРИАЛЬНЫХ АКТИВОВ | D26: =D27+D28 -> 1675 | E26: =E27+E28 -> 1675 | F26: =F27+F28 -> 1675
B27: 1 14 06000 00 0000 430 | C27: Доходы от продажи земельных участков, находящихся в государственной и муниципальной собственности | D27: 1000 | E27: 1000 | F27: 1000
B28: 1 14 06300 00 0000 430 | C28: Плата за увеличение площади земельных участков, находящихся в частной собственности, в результате перераспределения таких земельных участков и земель (или) земельных участков, находящихся в государственной или муниципальной собственности | D28: 675 | E28: 675 | F28: 675
A29: 7. | B29: 116 00000 00 0000 000 | C29: ШТРАФЫ, САНКЦИИ, ВОЗМЕЩЕНИЕ УЩЕРБА | D29: =D30 -> 100 | E29: =E30 -> 100 | F29: 100
A30: 7.1. | B30: 116 90000 00 0000 000 | C30: Прочие поступления от денежных взысканий (штрафов) и иных сумм в возмещение ущерба | D30: 100 | E30: 100 | F30: 50
A31: 9. | B31: 200 00000 00 0000 000 | C31: БЕЗВОЗМЕЗДНЫЕ ПОСТУПЛЕНИЯ | D31: ='Безв. поступления 16'!C13 -> 90284.9 | E31: ='Безв. поступления 16'!D13 -> 60606 | F31: ='Безв. поступления 16'!E13 -> 3.5
A32: ИТОГО ДОХОДОВ | D32: =D10+D31 -> 431585.6 | E32: =E10+E31 -> 418290.5 | F32: =F10+F31 -> 375566

Sheet Безв. поступления 16
E1: Приложение 3
E2: к приложению 1
E3: решения Совета депутатов
E4: Виллозское городское поселение
E5: от "06" ноября 2019 г. № 18
A7: БЕЗВОЗМЕЗДНЫЕ ПОСТУПЛЕНИЯ В МЕСТНЫЙ БЮДЖЕТ
A8: муниципального образования Виллозское городское поселение Ломоносовского муниципального района Ленинградской области на 2020 год и плановый период 2021 и 2022 годов
A10: Код бюджетной классификации | B10: Источники доходов | C10: Планируемый объем, тыс.руб.
C11: 2020 год | D11: 2021 год | E11: 2022 год
A12: 1 | B12: 2 | C12: 3 | D12: 4 | E12: 5
A13: 2 00 00000 00 0000 000 | B13: БЕЗВОЗМЕЗДНЫЕ ПОСТУПЛЕНИЯ | C13: =C14 -> 90284.9 | D13: =D14 -> 60606 | E13: =E14 -> 3.5
A14: 2 02 00000 00 0000 000 | B14: БЕЗВОЗМЕЗДНЫЕ ПОСТУПЛЕНИЯ ОТ ДРУГИХ БЮДЖЕТОВ БЮДЖЕТНОЙ СИСТЕМЫ РОССИЙСКОЙ ФЕДЕРАЦИИ | C14: =C15+C24 -> 90284.9 | D14: =D15+D24 -> 60606 | E14: =E15+E24 -> 3.5
A15: 202 20000 00 0000 150 | B15: Субсидии бюджетам субъектов Российской Федерации и муниципальных образований (межбюджетные субсидии) | C15: =C16+C18+C20+C22 -> 90000 | D15: =D16+D18+D20+D22 -> 60311 | E15: =E16+E18+E20+E22 -> 0
A16: 2 02 20077 00 0000 150 | B16: Субсидии бюджетам на софинансирование капитальных вложений в объекты муниципальной собственности | C16: =C17 -> 90000 | D16: =D17 -> 60311 | E16: =E17 -> 0
A17: 2 02 20077 13 0000 150 | B17: Субсидии бюджетам городских поселений на софинансирование капитальных вложений в объекты муниципальной собственности | C17: 90000 | D17: 60311 | E17: 0
A18: 2 02 20216 00 0000 150 | B18: Субсидии бюджетам на осуществление дорожной деятельности в отношении автомобильных дорог общего пользования, а также капитального ремонта и ремонта дворовых территорий многоквартирных домов, проездов к дворовым территориям многоквартирных домов населенных пунктов | C18: =C19 -> 0 | D18: =D19 -> 0 | E18: =E19 -> 0
A19: 2 02 20216 13 0000 150 | B19: Субсидии бюджетам городских поселений на осуществление дорожной деятельности в отношении автомобильных дорог общего пользования, а также капитального ремонта и ремонта дворовых территорий многоквартирных домов, проездов к дворовым территориям многоквартирных домов населенных пунктов | C19: 0 | D19: 0 | E19: 0
A20: 2 02 25555 00 0000 150 | B20: Субсидии бюджетам на реализацию программ формирования современной городской среды | C20: =C21 -> 0 | D20: =D21 -> 0 | E20: =E21 -> 0
A21: 2 02 25555 13 0000 150 | B21: Субсидии бюджетам городских поселений на реализацию программ формирования современной городской среды | C21: 0 | D21: 0 | E21: 0
A22: 2 02 29999 00 0000 150 | B22: Прочие субсидии | C22: =C23 -> 0 | D22: =D23 -> 0 | E22: =E23 -> 0
A23: 2 02 29999 13 0000 150 | B23: Прочие субсидии бюджетам городских поселений | C23: 0 | D23: 0 | E23: 0
A24: 202 30000 00 0000 150 | B24: Субвенции бюджетам субъектов Российской Федерации и муниципальных образований | C24: =C25+C27 -> 284.9 | D24: =D25+D27 -> 295 | E24: =E25+E27 -> 3.5
A25: 202 30024 00 0000 150 | B25: Субвенции местным бюджетам на выполнение передаваемых полномочий субъектов Российской Федерации | C25: =C26 -> 3.5 | D25: =D26 -> 3.5 | E25: =E26 -> 3.5
A26: 202 30024 13 0000 150 | B26: Субвенции бюджетам городских поселений на выполнение передаваемых полномочий субъектов Российской Федерации | C26: 3.5 | D26: 3.5 | E26: 3.5
A27: 202 35118 00 0000 150 | B27: Субвенции бюджетам на осуществление первичного воинского учета на территориях, где отсутствуют военные комиссариаты | C27: =C28 -> 281.4 | D27: =D28 -> 291.5 | E27: =E28 -> 0
A28: 202 35118 13 0000 150 | B28: Субвенции бюджетам городских поселений на осуществление первичного воинского учета на территориях, где отсутствуют военные комиссариаты | C28: 281.4 | D28: 291.5 | E28: 0

Sheet Нормативы
I1: Приложение 4
I2: к приложению 1
I3: решения Совета депутатов
I4: Виллозское городское поселение
I5: от "06" ноября 2019 г. № 18
A6: НОРМАТИВЫ распределения доходов, не утвержденных Бюджетным кодексом Российской Федерации, Федеральными законами и законами субъектов Российской Федерации, поступающих в местный бюджет муниципального образования Виллозское городское поселение Ломоносовского муниципального района Ленинградской области на 2020 год и плановый период 2021 и 2022 годов
A11: Наименование дохода | F11: Норматив (процент) отчислений в бюджет муниципального образования Виллозское сельское поселение
A12: В ЧАСТИ ДОХОДОВ ОТ ОКАЗАНИЯ ПЛАТНЫХ УСЛУГ И КОМПЕНСАЦИИ ЗАТРАТ ГОСУДАРСТВА
A14: Прочие доходы от оказания платных услуг (работ) получателями средств бюджетов городских поселений | G14: 100
A15: В ЧАСТИ АДМИНИСТРАТИВНЫХ ПЛАТЕЖЕЙ И СБОРОВ
A17: Платежи, взимаемые органами местного самоуправления (организациями) городских поселений за выполнение определенных функций | G17: 100
A18: В ЧАСТИ ПРОЧИХ НЕНАЛОГОВЫХ ДОХОДОВ
A20: Невыясненные поступления, зачисляемые в бюджеты городских поселений | G20: 100

Sheet Перечень кодов 16
C1: Приложение 5
C2: к приложению 1
C3: решения Совета депутатов
C4: Виллозское городское поселение
C5: от "06" ноября 2019 г. № 18
A6: ПЕРЕЧЕНЬ И КОДЫ главных администраторов доходов местного бюджета муниципального образования Виллозское городское поселение Ломоносовского муниципального района Ленинградской области
A7: Код бюджетной классификации | C7: Наименование доходов
A8: главного администра-тора доходов | B8: доходов местного бюджета Виллозского городского поселения
A9: 905 | B9: Администрация Виллозского городского поселения Ломоносовского района
A10: 905 | B10: 1 08 04020 01 0000 110 | C10: Государственная пошлина за совершение нотариальных действий должностными лицами органов местного самоуправления, уполномоченными в соответствии с законодательными актами Российской Федерации на совершение нотариальных действий
A11: 905 | B11: 1 08 07170 01 0000 110 | C11: Государственная пошлина за выдачу специального разрешения на движение по автомобильным дорогам транспортных средств, осуществляющих перевозки опасных, тяжеловесных и (или) крупногабаритных грузов
A12: 905 | B12: 1 11 05013 13 0000 120 | C12: Доходы, получаемые в виде арендной платы за земельные участки, государственная собственность на которые не разграничена и которые расположены в границах городских поселений, а также средства от продажи права на заключение договоров аренды указанных земельных участков
A13: 905 | B13: 1 11 05075 13 0000 120 | C13: Доходы от сдачи в аренду имущества, составляющего казну городских поселений (за исключением земельных участков)
A14: 905 | B14: 1 11 05313 13 0000 120 | C14: Плата по соглашениям об установлении сервитута, заключенным органами местного самоуправления муниципальных районов, государственными или муниципальными предприятиями либо государственными или муниципальными учреждениями в отношении земельных участков, государственная собственность на которые не разграничена и которые расположены в границах городских поселений
A15: 905 | B15: 1 11 09045 13 0000 120 | C15: Прочие поступления от использования имущества, находящегося в собственности городских поселений (за исключением имущества муниципальных бюджетных и автономных учреждений, а также имущества муниципальных унитарных предприятий, в том числе казенных)
A16: 905 | B16: 1 13 01995 13 0000 130 | C16: Прочие доходы от оказания платных услуг (работ) получателями средств бюджетов городских поселений
A17: 905 | B17: 1 13 02995 13 0000 130 | C17: Прочие доходы от компенсации затрат бюджетов городских поселений
A18: 905 | B18: 1 14 01050 13 0000 410 | C18: Доходы от продажи квартир, находящихся в собственности городских поселений
A19: 905 | B19: 1 14 02053 13 0000 410 | C19: Доходы от реализации иного имущества, находящегося в собственности городских поселений (за исключением имущества муниципальных бюджетных и автономных учреждений, а также имущества муниципальных унитарных предприятий, в тем числе казенных), в части реализации основных средств по указанному имуществу
A20: 905 | B20: 1 14 02053 13 0000 440 | C20: Доходы от реализации иного имущества, находящегося в собственности городских поселений (за исключением имущества муниципальных бюджетных и автономных учреждений, а также имущества муниципальных унитарных предприятий, в том числе казенных), в части реализации материальных запасов по указанному имуществу
A21: 905 | B21: 1 14 06013 13 0000 430 | C21: Доходы от продажи земельных участков, государственная собственность на которые не разграничена и которые расположены в границах городских поселений
... A41: 905 | B41: 2 19 45160 13 0000 150 | C41: Возврат остатков иных межбюджетных трансфертов, передаваемых для компенсации дополнительных расходов, возникших в результате решений, принятых органами власти другого уровня, из бюджетов городских поселений

Sheet Администр. Источников
C1: Приложение 6
C2: к приложению 1
C3: решения Совета депутатов
C4: Виллозское городское поселение
C5: от "06" ноября 2019 г. № 18
A6: ПЕРЕЧЕНЬ ГЛАВНЫХ АДМИНИСТРАТОРОВ источников внутреннего финансирования дефицита местного бюджета муниципального образования Виллозское городское поселение Ломоносовского муниципального района Ленинградской области
A8: Код бюджетной классификации
A9: главного | B9: источников внутреннего | C9: Наименование главного администратора и источников
A10: админи- | B10: финансирования дефицита | C10: внутреннего финансирования дефицита местного бюджета
A11: стратора | B11: бюджета муниципального | C11: муниципального образования Виллозское городское поселение
B12: образования Виллозское
B13: городское поселение
A14: 1 | B14: 2 | C14: 3 | F14: 3
A15: 905 | C15: Администрация Виллозского городского поселения Ломоносовский района ИНН 4720007582 /КПП 472501001
A16: 905 | B16: 01 05 02 01 13 0000 510 | C16: Увеличение прочих остатков денежных средств местного бюджета
A17: 905 | B17: 01 05 02 01 13 0000 610 | C17: Уменьшение прочих остатков денежных средств местного бюджета

Sheet Перечень распорядителей
D1: Приложение 7
D2: к приложению 1
D3: решения Совета депутатов
D4: Виллозское городское поселение
D5: от "06" ноября 2019 г. № 18
B7: ПЕРЕЧЕНЬ ГЛАВНЫХ РАСПОРЯДИТЕЛЕЙ
B8: средств местного бюджета
B9: муниципального образования Виллозское городское поселение
B10: Ломоносовского муниципального района Ленинградской области
A12: № п/п | B12: Наименование | D12: Код главы по бюджетной классификации
B13: Полное | C13: Сокращенное
A14: 1 | B14: 2 | C14: 3 | D14: 4
A15: 1 | B15: Совет депутатов Виллозского городского поселения Ломоносовского района | C15: Совет депутатов Виллозского поселения | D15: 944
A16: 2 | B16: Администрация Виллозского городского поселения Ломоносовского района | C16: Администрация Виллозского городского поселения | D16: 905

Sheet Расходы функц. 2016
G1: Приложение 8
G2: к приложению 1
G3: решения Совета депутатов
G4: Виллозское городское поселение
G5: от "06" ноября 2019 г. № 18
A6: РАСПРЕДЕЛЕНИЕ БЮДЖЕТНЫХ АССИГНОВАНИЙ
A7: по целевым статьям (муниципальным программам муниципального образования Виллозское городское поселение и непрограммным направлениям деятельности) группам и подгруппам видов расходов классификации расходов бюджетов, а также по разделам и подразделам классификации расходов местного бюджета на 2020 год и плановый период 2021 и 2022 годов
A8: Наименование показателя | B8: целевая статья | C8: вид расхода | D8: раздел, подраздел | E8: Сумма, тыс. руб.
E9: 2020 год | F9: 2021 год | G9: 2022 год
A10: 1 | B10: 2 | C10: 3 | D10: 4 | E10: 5 | F10: 6 | G10: 7
A11: Всего | E11: =E12+E18+E22+E41+E57+E61+E70+E79+E85+E112+E145+E167+E199+E180+E187+E195 -> 654597.9 | F11: =F12+F18+F22+F41+F57+F61+F70+F79+F85+F112+F145+F167+F199+F180+F187+F195 -> 426454 | G11: =G12+G18+G22+G41+G57+G61+G70+G79+G85+G112+G145+G167+G199+G180+G187+G195 -> 396441.5
A12: Муниципальная программа «Развитие части территорий муниципального образования Виллозское городское поселение Ломоносовского муниципального района Ленинградской области на 2020 год» | B12: 0300000000 | E12: =E13 -> 2419.5 | F12: =F13 -> 0 | G12: =G13 -> 0
A13: Расходы по переданным отдельным государственным полномочиям, на участие в государственных программах | B13: 03000S0000 | E13: =E14 -> 2419.5 | F13: =F14 -> 0 | G13: =G14 -> 0
A14: Мероприятия по развитию части территорий поселения | B14: 03000S4770 | E14: =E15 -> 2419.5 | F14: =F15 -> 0 | G14: =G15 -> 0
A15: Иные закупки товаров, работ и услуг для обеспечения государственных (муниципальных) нужд | B15: 03000S4770 | C15: 240 | E15: =E16+E17 -> 2419.5 | F15: =F16+F17 -> 0 | G15: =G16+G17 -> 0
A16: Дорожное хозяйство (Дорожные фонды) | B16: 03000S4770 | C16: 240 | D16: 04 09 | E16: 1369.5 | F16: 0 | G16: 0
A17: Благоустройство | B17: 03000S4770 | C17: 240 | D17: 05 03 | E17: 1050 | F17: 0 | G17: 0
A18: Муниципальная программа «Капитальный ремонт муниципального жилищного фонда муниципального образования Виллозское городское поселение Ломоносовского муниципального района Ленинградской области на 2020 – 2022 годы» | B18: 0400000000 | E18: =E19 -> 1950 | F18: =F19 -> 1950 | G18: =G19 -> 1950
A19: Мероприятия по капитальному ремонту муниципального жилищного фонда | B19: 0400001010 | E19: =E20 -> 1950 | F19: =F20 -> 1950 | G19: =G20 -> 1950
A20: Иные закупки товаров, работ и услуг для обеспечения государственных (муниципальных) нужд | B20: 0400001010 | C20: 240 | E20: =E21 -> 1950 | F20: =F21 -> 1950 | G20: =G21 -> 1950
A21: Жилищное хозяйство | B21: 0400001010 | C21: 240 | D21: 05 01 | E21: 1950 | F21: 1950 | G21: 1950
A22: Муниципальная программа "Строительство, капитальный ремонт, ремонт и содержание автомобильных дорог общего пользования местного значения в населенных пунктах муниципального образования Виллозское городское поселение Ломоносовского муниципального района Ленинградской области на 2020 - 2022 годы" | B22: 0500000000 | E22: =E23+E31+E37 -> 71500 | F22: =F23+F31+F37 -> 44400 | G22: =G23+G31+G37 -> 51900
A23: Основное мероприятие "Капитальный ремонт и ремонт автомобильных дорог общего пользования местного значения, дворовых территорий многоквартирных домов и проездов к ним" | B23: 0500100000 | E23: =E24+E27 -> 43700 | F23: =F24+F27 -> 36600 | G23: =G24+G27 -> 43900
A24: Капитальный ремонт и ремонт дорог общего пользования местного значения | B24: 0500101020 | E24: =E25 -> 42800 | F24: =F25 -> 35700 | G24: =G25 -> 43000
A25: Иные закупки товаров, работ и услуг для обеспечения государственных (муниципальных) нужд | B25: 0500101020 | C25: 240 | E25: =E26 -> 42800 | F25: =F26 -> 35700 | G25: =G26 -> 43000
A26: Дорожное хозяйство (дорожные фонды) | B26: 0500101020 | C26: 240 | D26: 04 09 | E26: 42800 | F26: 35700 | G26: 43000
A27: Расходы по переданным отдельным государственным полномочиям, на участие в государственных программах | B27: 05001S0000 | E27: =E28 -> 900 | F27: =F28 -> 900 | G27: =G28 -> 900
A28: Капитальный ремонт и ремонт дорог общего пользования местного значения в рамках муниципальной программы "Строительство, капитальный ремонт, ремонт и содержание автомобильных дорог общего пользования местного значения в населенных пунктах муниципального образования Виллозское городское поселение Ломоносовского муниципального района Ленинградской области на 2018 - 2020 годы" | B28: 05001S0140 | E28: =E29 -> 900 | F28: =F29 -> 900 | G28: =G29 -> 900
A29: Иные закупки товаров, работ и услуг для обеспечения государственных (муниципальных) нужд | B29: 05001S0140 | C29: 240 | E29: =E30 -> 900 | F29: =F30 -> 900 | G29: =G30 -> 900
A30: Дорожное хозяйство (дорожные фонды) | B30: 05001S0140 | C30: 240 | D30: 04 09 | E30: 900 | F30: 900 | G30: 900
A31: Основное мероприятие "Содержание автомобильных дорог общего пользования местного значения, дворовых территорий многоквартирных домов и проездов к ним" | B31: 0500200000 | E31: =E32 -> 27000 | F31: =F32 -> 7000 | G31: =G32 -> 7400
A32: Содержание дорог общего пользования местного значения | B32: 0500201030 | E32: =E33+E35 -> 27000 | F32: =F33+F35 -> 7000 | G32: =G33+G35 -> 7400
A33: Иные закупки товаров, работ и услуг для обеспечения государственных (муниципальных) нужд | B33: 0500201030 | C33: 240 | E33: =E34 -> 21500 | F33: =F34 -> 1000 | G33: =G34 -> 900
A34: Дорожное хозяйство (дорожные фонды) | B34: 0500201030 | C34: 240 | D34: 04 09 | E34: 21500 | F34: 1000 | G34: 900
A35: Субсидии юридическим лицам (кроме некоммерческих организаций), индивидуальным предпринимателям, физическим лицам - производителям товаров, работ, услуг | B35: 0500201030 | C35: 810 | E35: =E36 -> 5500 | F35: =F36 -> 6000 | G35: =G36 -> 6500
A36: Дорожное хозяйство (дорожные фонды) | B36: 0500201030 | C36: 810 | D36: 04 09 | E36: 5500 | F36: 6000 | G36: 6500
A37: Основное мероприятие "Техническое оснащение, постановка на кадастровый учет объектов недвижимости в целях государственной регистрации прав" | B37: 0500300000 | E37: =E38 -> 800 | F37: =F38 -> 800 | G37: =G38 -> 600
A38: Техническое оснащение и паспортизация автомобильных дорог общего пользования местного значения | B38: 0500301050 | E38: =E39 -> 800 | F38: =F39 -> 800 | G38: =G39 -> 600
A39: Иные закупки товаров, работ и услуг для обеспечения государственных (муниципальных) нужд | B39: 0500301050 | C39: 240 | E39: =E40 -> 800 | F39: =F40 -> 800 | G39: =G40 -> 600
A40: Дорожное хозяйство (дорожные фонды) | B40: 0500301050 | C40: 240 | D40: 04 09 | E40: 800 | F40: 800 | G40: 600
...

Sheet Расходы разд.
G1: Приложение 9
G2: к приложению 1
G3: решения Совета депутатов
G4: Виллозское городское поселение
G5: от "06" ноября 2019 г. № 18
A6: РАСПРЕДЕЛЕНИЕ БЮДЖЕТНЫХ АССИГНОВАНИЙ
A7: по разделам , подразделам, целевым статьям (муниципальным программам муниципального образования Виллозское городское поселение и непрограммным направлениям деятельности), группам и подгруппам видов расходов классификации бюджета на 2020 год и плановый период 2021 и 2022 годов
A8: Наименование показателя | B8: коды | E8: Планируемый объем, тыс. руб.
B9: раздел и подраздел | C9: целевая статья | D9: вид расхода | E9: 2020 год | F9: 2021 год | G9: 2022 год
A10: 2 | B10: 4 | C10: 5 | D10: 6 | E10: 7
A11: Администрация Виллозского городского поселения Ломоносовского района
A12: ОБЩЕГОСУДАРСТВЕННЫЕ ВОПРОСЫ | B12: 01 00 | E12: =E25+E13+E35+E40 -> 59990.5 | F12: =F25+F13+F35+F40 -> 56904.5 | G12: =G25+G13+G35+G40 -> 62879.5
A13: Функционирование законодательных (представительных) органов государственной власти и представительных органов муниципальных образований | B13: 01 03 | E13: =E14 -> 6115 | F13: =F14 -> 6379 | G13: =G14 -> 6549
A14: Непрограммные расходы | B14: 01 03 | C14: 9000000000 | E14: =E15 -> 6115 | F14: =F15 -> 6379 | G14: =G15 -> 6549
A15: Реализация функций и полномочий органов местного самоуправления в рамках непрограммной части | B15: 01 03 | C15: 9900000000 | E15: =E16+E20+E23 -> 6115 | F15: =F16+F20+F23 -> 6379 | G15: =G16+G20+G23 -> 6549
A16: Обеспечение деятельности аппаратов органов местного самоуправления | B16: 01 03 | C16: 9900000210 | E16: =E17+E18+E19 -> 4335 | F16: =F17+F18+F19 -> 4509 | G16: =G17+G18+G19 -> 4589
A17: Расходы на выплаты персоналу государственных (муниципальных) органов | B17: 01 03 | C17: 9900000210 | D17: 120 | E17: 2870 | F17: 2950 | G17: 3030
A18: Иные закупки товаров, работ и услуг для обеспечения государственных (муниципальных) нужд | B18: 01 03 | C18: 9900000210 | D18: 240 | E18: 1455 | F18: 1549 | G18: 1549
A19: Уплата налогов,сборов и иных платежей | B19: 01 03 | C19: 9900000210 | D19: 850 | E19: 10 | F19: 10 | G19: 10
A20: Иные межбюджетные трансферты по передаче полномочий по осуществлению внешнего муниципального контроля | B20: 01 03 | C20: 9900005000 | E20: =E21 -> 60 | F20: =F21 -> 60 | G20: =G21 -> 60
A21: Иные межбюджетные трансферты по передаче полномочий по осуществлению внешнего муниципального контроля | B21: 01 03 | C21: 9900005030 | E21: =E22 -> 60 | F21: =F22 -> 60 | G21: =G22 -> 60
A22: Иные межбюджетные трансферты | B22: 01 03 | C22: 9900005030 | D22: 540 | E22: 60 | F22: 60 | G22: 60
A23: Расходы на обеспечение деятельности депутатов представительного органа муниципального образования | B23: 01 03 | C23: 9900000220 | E23: =E24 -> 1720 | F23: =F24 -> 1810 | G23: =G24 -> 1900
A24: Расходы на выплаты персоналу государственных (муниципальных) органов | B24: 01 03 | C24: 9900000220 | D24: 120 | E24: 1720 | F24: 1810 | G24: 1900
A25: Функционирование Правительства Российской Федерации, высших исполнительных органов государственной власти субъектов Российской Федерации, местных администраций | B25: 01 04 | E25: =E26 -> 42470 | F25: =F26 -> 44020 | G25: =G26 -> 45825
A26: Непрограммные расходы | B26: 01 04 | C26: 9000000000 | E26: =E27 -> 42470 | F26: =F27 -> 44020 | G26: =G27 -> 45825
A27: Реализация функций и полномочий органов местного самоуправления в рамках непрограммных расходов | B27: 01 04 | C27: 9900000000 | E27: =E28+E30 -> 42470 | F27: =F28+F30 -> 44020 | G27: =G28+G30 -> 45825
A28: Обеспечение деятельности главы муниципального образования, главы администрации | B28: 01 04 | C28: 9900000200 | E28: =E29 -> 1990 | F28: =F29 -> 2090 | G28: =G29 -> 2195
A29: Расходы на выплаты персоналу государственных (муниципальных) органов | B29: 01 04 | C29: 9900000200 | D29: 120 | E29: 1990 | F29: 2090 | G29: 2195
A30: Обеспечение деятельности аппаратов органов местного самоуправления | B30: 01 04 | C30: 9900000210 | E30: =E31+E32+E33+E34 -> 40480 | F30: =F31+F32+F33+F34 -> 41930 | G30: =G31+G32+G33+G34 -> 43630
A31: Расходы на выплаты персоналу государственных (муниципальных) органов | B31: 01 04 | C31: 9900000210 | D31: 120 | E31: 31210 | F31: 32700 | G31: 34400
A32: Иные закупки товаров, работ и услуг для обеспечения государственных (муниципальных) нужд | B32: 01 04 | C32: 9900000210 | D32: 240 | E32: 9050 | F32: 9010 | G32: 9010
A33: Исполнение судебных актов | B33: 01 04 | C33: 9900000210 | D33: 830 | E33: 20 | F33: 20 | G33: 20
A34: Уплата налогов,сборов и иных платежей | B34: 01 04 | C34: 9900000210 | D34: 850 | E34: 200 | F34: 200 | G34: 200
A35: Резервные фонды | B35: 01 11 | E35: =E36 -> 1000 | F35: =F36 -> 1000 | G35: =G36 -> 1000
A36: Непрограммные расходы | B36: 01 11 | C36: 9000000000 | E36: =E37 -> 1000 | F36: =F37 -> 1000 | G36: =G37 -> 1000
A37: Реализация функций и полномочий органов местного самоуправления в рамках непрограммных расходов | B37: 01 11 | C37: 9900000000 | E37: =E38 -> 1000 | F37: =F38 -> 1000 | G37: =G38 -> 1000
A38: Реализация мероприятий за счет средств резервного фонда | B38: 01 11 | C38: 9900080060 | E38: =E39 -> 1000 | F38: =F39 -> 1000 | G38: =G39 -> 1000
A39: Резервные средства | B39: 01 11 | C39: 9900080060 | D39: 870 | E39: 1000 | F39: 1000 | G39: 1000
A40: Другие общегосударственные вопросы | B40: 01 13 | E40: =E41+E44+E47 -> 10405.5 | F40: =F41+F44+F47 -> 5505.5 | G40: =G41+G44+G47 -> 9505.5
...

Sheet Расходы ведомств. 16
H1: Приложение 10
H2: к приложению 1
H3: решения Совета депутатов
H4: Виллозское городское поселение
H5: от "06" ноября 2019 г. № 18
A6: ВЕДОМСТВЕННАЯ СТРУКТУРА
A7: расходов местного бюджета муниципального образования Виллозское городское поселение Ломоносовского муниципального района Ленинградской области на 2020 год и плановый период 2021 и 2022 годов
A8: Наименование показателя | B8: коды | F8: Планируемый объем, тыс. руб. | G8: Планируемый объем, тыс. руб. | H8: Планируемый объем, тыс. руб.
B9: ГРБС | C9: раздел и подраздел | D9: целевая статья | E9: вид расхода | F9: 2020 год | G9: 2021 год | H9: 2022 год
A10: 2 | B10: 3 | C10: 4 | D10: 5 | E10: 6 | F10: 7 | G10: 7 | H10: 7
A11: Администрация Виллозского городского поселения Ломоносовского района | B11: 905 | F11: =F12+F42+F49+F58+F91+F154+F162+F187+F200+F215 -> 648482.9 | G11: =G12+G42+G49+G58+G91+G154+G162+G187+G200+G215 -> 420075 | H11: =H12+H42+H49+H58+H91+H154+H162+H187+H200+H215 -> 389892.5
A12: ОБЩЕГОСУДАРСТВЕННЫЕ ВОПРОСЫ | B12: 905 | C12: 01 00 | F12: =F13+F23+F28 -> 53875.5 | G12: =G13+G23+G28 -> 50525.5 | H12: =H13+H23+H28 -> 56330.5
A13: Функционирование Правительства Российской Федерации, высших исполнительных органов государственной власти субъектов Российской Федерации, местных администраций | B13: 905 | C13: 01 04 | F13: =F14 -> 42470 | G13: =G14 -> 44020 | H13: =H14 -> 45825
A14: Непрограммные расходы | B14: 905 | C14: 01 04 | D14: 9000000000 | F14: =F15 -> 42470 | G14: =G15 -> 44020 | H14: =H15 -> 45825
A15: Реализация функций и полномочий органов местного самоуправления в рамках непрограммных расходов | B15: 905 | C15: 01 04 | D15: 9900000000 | F15: =F16+F18 -> 42470 | G15: =G16+G18 -> 44020 | H15: =H16+H18 -> 45825
A16: Обеспечение деятельности главы муниципального образования, главы администрации | B16: 905 | C16: 01 04 | D16: 9900000200 | F16: =F17 -> 1990 | G16: =G17 -> 2090 | H16: =H17 -> 2195
A17: Расходы на выплаты персоналу государственных (муниципальных) органов | B17: 905 | C17: 01 04 | D17: 9900000200 | E17: 120 | F17: 1990 | G17: 2090 | H17: 2195
A18: Обеспечение деятельности аппаратов органов местного самоуправления | B18: 905 | C18: 01 04 | D18: 9900000210 | F18: =F19+F20+F21+F22 -> 40480 | G18: =G19+G20+G21+G22 -> 41930 | H18: =H19+H20+H21+H22 -> 43630
A19: Расходы на выплаты персоналу государственных (муниципальных) органов | B19: 905 | C19: 01 04 | D19: 9900000210 | E19: 120 | F19: 31210 | G19: 32700 | H19: 34400
A20: Иные закупки товаров, работ и услуг для обеспечения государственных (муниципальных) нужд | B20: 905 | C20: 01 04 | D20: 9900000210 | E20: 240 | F20: 9050 | G20: 9010 | H20: 9010
A21: Исполнение судебных актов | B21: 905 | C21: 01 04 | D21: 9900000210 | E21: 830 | F21: 20 | G21: 20 | H21: 20
A22: Уплата налогов,сборов и иных платежей | B22: 905 | C22: 01 04 | D22: 9900000210 | E22: 850 | F22: 200 | G22: 200 | H22: 200
A23: Резервные фонды | B23: 905 | C23: 01 11 | F23: =F24 -> 1000 | G23: =G24 -> 1000 | H23: =H24 -> 1000
A24: Непрограммные расходы | B24: 905 | C24: 01 11 | D24: 9000000000 | F24: =F25 -> 1000 | G24: =G25 -> 1000 | H24: =H25 -> 1000
A25: Реализация функций и полномочий органов местного самоуправления в рамках непрограммных расходов | B25: 905 | C25: 01 11 | D25: 9900000000 | F25: =F26 -> 1000 | G25: =G26 -> 1000 | H25: =H26 -> 1000
A26: Реализация мероприятий за счет средств резервного фонда | B26: 905 | C26: 01 11 | D26: 9900080060 | F26: =F27 -> 1000 | G26: =G27 -> 1000 | H26: =H27 -> 1000
A27: Резервные средства | B27: 905 | C27: 01 11 | D27: 9900080060 | E27: 870 | F27: 1000 | G27: 1000 | H27: 1000
A28: Другие общегосударственные вопросы | B28: 905 | C28: 01 13 | F28: =F29+F32+F35 -> 10405.5 | G28: =G29+G32+G35 -> 5505.5 | H28: =H29+H32+H35 -> 9505.5
A29: Муниципальная программа «Оформление права собственности и использование имущества муниципального образования Виллозское городское поселение Ломоносовского муниципального района Ленинградской области на 2020 -2022 годы " | B29: 905 | C29: 01 13 | D29: 0700000000 | F29: =F30 -> 6470 | G29: =G30 -> 2470 | H29: =H30 -> 6370
A30: Мероприятия по формлению права собственности и использованию имущества | B30: 905 | C30: 01 13 | D30: 0700001120 | F30: =F31 -> 6470 | G30: =G31 -> 2470 | H30: =H31 -> 6370
A31: Иные закупки товаров, работ и услуг для обеспечения государственных (муниципальных) нужд | B31: 905 | C31: 01 13 | D31: 0700001120 | E31: 240 | F31: 6470 | G31: 2470 | H31: 6370
A32: Муниципальная программа "Обеспечение безопасности на территории муниципального образования Виллозское городское поселение Ломоносовского муниципального района Ленинградской области на 2020 - 2022 годы" | B32: 905 | C32: 01 13 | D32: 1400000000 | F32: =F33 -> 3500 | G32: =G33 -> 2600 | H32: =H33 -> 2700
A33: Мероприятия по обеспечению правопорядка | B33: 905 | C33: 01 13 | D33: 1400001350 | F33: =F34 -> 3500 | G33: =G34 -> 2600 | H33: =H34 -> 2700
A34: Иные закупки товаров, работ и услуг для обеспечения государственных (муниципальных) нужд | B34: 905 | C34: 01 13 | D34: 1400001350 | E34: 240 | F34: 3500 | G34: 2600 | H34: 2700
A35: Непрограммные расходы | B35: 905 | C35: 01 13 | D35: 9000000000 | F35: =F36 -> 435.5 | G35: =G36 -> 435.5 | H35: =H36 -> 435.5
A36: Реализация функций и полномочий органов местного самоуправления в рамках непрограммных расходов | B36: 905 | C36: 01 13 | D36: 9900000000 | F36: =F37+F39 -> 435.5 | G36: =G37+G39 -> 435.5 | H36: =H37+H39 -> 435.5
A37: Прочие расходы в рамках полномочий органов местного самоуправления | B37: 905 | C37: 01 13 | D37: 9900000280 | F37: =F38 -> 432 | G37: =G38 -> 432 | H37: =H38 -> 432
A38: Иные закупки товаров, работ и услуг для обеспечения государственных (муниципальных) нужд | B38: 905 | C38: 01 13 | D38: 9900000280 | E38: 240 | F38: 432 | G38: 432 | H38: 432
A39: Осуществление отдельных государственных полномочий Ленинградской области | B39: 905 | C39: 01 13 | D39: 9900070000 | F39: =F40 -> 3.5 | G39: =G40 -> 3.5 | H39: =H40 -> 3.5
A40: Обеспечение выполнения органами местного самоуправления отдельных государственных полномочий Ленинградской области в сфере административных правоотношений | B40: 905 | C40: 01 13 | D40: 9900071340 | F40: =F41 -> 3.5 | G40: =G41 -> 3.5 | H40: =H41 -> 3.5
...

Sheet Мун. заимств.
M1: Приложение 11
M2: к приложению 1
M3: решения Совета депутатов
M4: Виллозское городское поселение
M5: от "06" ноября 2019 г. № 18
A6: Программа муниципальных заимствований муниципального образования Виллозское городское поселение Ломоносовского муниципального района Ленинградской области на 2020 год и плановый период 2021 и 2022 годов
B7: Предельная величина (тыс. руб.) | E7: Объем привлечения (тыс. руб.) | H7: Объем погашения (тыс. руб.) | K7: Предельная величина (тыс. руб.)
B8: на 01.01.2020г. | C8: на 01.01.2021г. | D8: на 01.01.2022г. | E8: на 01.01.2020г. | F8: на 01.01.2021г. | G8: на 01.01.2022г. | H8: на 01.01.2020г. | I8: на 01.01.2021г. | J8: на 01.01.2022г. | K8: на 01.01.2020г. | L8: на 01.01.2021г. | M8: на 01.01.2022г.
A9: Обязательства, действующие на 1 января – всего: | B9: 0 | C9: 0 | D9: 0 | E9: 0 | F9: 0 | G9: 0 | H9: 0 | I9: 0 | J9: 0 | K9: 0 | L9: 0 | M9: 0
A10: Обязательства, планируемые в 2019 году – всего, | B10: 0 | C10: 0 | D10: 0 | E10: 0 | F10: 0 | G10: 0 | H10: 0 | I10: 0 | J10: 0 | K10: 0 | L10: 0 | M10: 0
A11: в том числе: бюджетные кредиты, полученные от других бюджетов бюджетной системы Российской Федерации | B11: 0 | C11: 0 | D11: 0 | E11: 0 | F11: 0 | G11: 0 | H11: 0 | I11: 0 | J11: 0 | K11: 0 | L11: 0 | M11: 0
A12: ИТОГО: | B12: 0 | C12: 0 | D12: 0 | E12: 0 | F12: 0 | G12: 0 | H12: 0 | I12: 0 | J12: 0 | K12: 0 | L12: 0 | M12: 0

Sheet Полномочия
F1: Приложение 13
F2: к приложению 1
F3: решения Совета депутатов
F4: Виллозское городское поселение
F5: от "06" ноября 2019 г. № 18
A7: МЕЖБЮДЖЕТНЫЕ ТРАНСФЕРТЫ
A8: бюджету муниципального района из местного бюджета муниципального образования Виллозское городское поселение Ломоносовского муниципального района Ленинградской области на осуществление части полномочий по решению вопросов местного значения в соответствии с заключенным соглашением на 2020 год и плановый период 2021 и 2022 годов
A11: Получатель трансферта | B11: 131-ФЗ , ст. 14, пункт 1, подпункт | C11: Наименование передаваемого полномочия | D11: Сумма, тыс. руб.
D13: 2020 год | E13: 2021 год | F13: 2022 год
A14: 1 | B14: 2 | C14: 3 | D14: 4 | E14: 4 | F14: 4
A15: Совет депутатов | B15: п.п.1 | C15: Осуществление внешнего муниципального финансового контроля | D15: 60 | E15: 60 | F15: 60

Sheet Бюджетные инвестиции
H1: Приложение 12
H2: к приложению 1
H3: решения Совета депутатов
H4: Виллозское городское поселение
H5: от "06" ноября 2019 г. № 18
A6: Бюджетные инвестиции в форме капитальных вложений в объекты муниципальной собственности муниципального образования Виллозское городское поселение Ломоносовского муниципального района Ленинградской области на 2020 год и плановый период 2021 и 2022 годов
A8: Наименование государственной программы | B8: Срок финансирования | C8: Планируемые объемы финансирования (в тыс. рублей) | H8: Индикаторы реализации (целевые задания, мощность)
C9: Всего | D9: Федеральный бюджет | E9: Областной бюджет | F9: Местный бюджет | G9: Прочие источники
A10: 1 | B10: 2 | C10: 3 | D10: 4 | E10: 5 | F10: 6 | G10: 7 | H10: 8
A11: 1. Строительство и реконструкция объектов муниципальной собственности
A12: Муниципальная программа Обеспечение устойчивого функционирования и развития объектов коммунальной инфраструктуры муниципального образования Виллозское городское поселение Ломоносовского муниципального района Ленинградской области на 2018 -2020 годы | C12: =SUM(D12:F12) -> 81800 | D12: - | E12: - | F12: =F13 -> 81800 | G12: _
A13: Строительство и реконструкция объектов коммунальной инфраструктуры, в т.ч. | B13: 2019 год | C13: =F13 -> 81800 | D13: _ | E13: _ | F13: =F14+F15+F16+F17 -> 81800 | G13: _
B14: 2019 год | C14: =F14 -> 3300 | D14: - | E14: - | F14: 3300 | G14: _ | H14: Строительство сетей водоснабжения, водоотведения, отопления ГВС для подключения Физкильтурно-оздоровительного комплекса с 25-метровым плавательным бассейном и универсальным игровым залом в гп Виллози
B15: 2020 год | C15: =F15 -> 3500 | D15: - | E15: - | F15: 3500 | G15: _ | H15: Подготовка проектной документации для строительства линии водопровода от Волхонского шоссе до д. Малое Карлино
B16: 2020 год | C16: =F16 -> 55000 | D16: - | E16: - | F16: 55000 | G16: _ | H16: Строительство котельной д. Малое Карлино
B17: 2021 год | C17: =F17 -> 20000 | D17: - | E17: - | F17: 20000 | G17: _ | H17: Строительство линии водопровода от Волхонского шоссе до д. Малое Карлино
A18: Муниципальная программа "Газификация населенных пунктов муниципального образования Виллозское городское поселение Ломоносовского муниципального района Ленинградской области на 2018 - 2020 годы" | B18: 2019 год | C18: =C19+C20 -> 12000 | D18: - | E18: - | F18: =F19+F20 -> 12000 | G18: _ | H18: Строительство распределительного газопровода жилых домов ИЖС д. Малое Карлино
A19: Строительство объектов муниципальной собственности | B19: 2020 год | C19: =F19 -> 2000 | F19: 2000
B20: 2021 год | C20: =F20 -> 10000 | D20: - | E20: - | F20: 10000 | G20: _
A21: Муниципальная программа"Энергосбережение и повышение энергетической эффективности на территории муниципального образования Виллозское сельское поселение муниципального образования Ломоносовский муниципальный район Ленинградской области на 2018 - 2020 годы" | C21: =SUM(D21:F21) -> 8000 | D21: - | E21: - | F21: =F22+F23+F24 -> 8000 | G21: _ | H21: Сеть уличного освещения
A22: Строительство сетей электроснабжения, уличного освещения | B22: 2020 год | C22: =F22 -> 5000 | F22: 5000
A23: Строительство сетей электроснабжения, уличного освещения | B23: 2021 год | C23: =F23 -> 1500 | F23: 1500
A24: Строительство сетей электроснабжения, уличного освещения | B24: 2022 год | C24: =F24 -> 1500 | D24: _ | E24: _ | F24: 1500 | G24: _
A25: Муниципальная программа "Развитие молодежной политики и спорта в муниципальном образовании Виллозское городское поселение Ломоносовского муниципального района Ленинградской области на 2018 - 2020 годы" | B25: 2020 - 2021 годы | C25: =E25+F25 -> 215311 | D25: - | E25: =E27+E28 -> 150311 | F25: =F26+F27+F28 -> 65000 | G25: -
A26: Мероприятия по развитию физической культуры и массового спорта | B26: 2021 год | C26: =F26 -> 53000 | F26: 53000 | G26: - | H26: Дообустройство спортивной площадки в д. Малое Карлино
A27: Строительство объектов физической культуры | B27: 2020 год | C27: =E27+F27 -> 101000 | D27: - | E27: 90000 | F27: 11000 | G27: - | H27: Физкультурно-оздоровительный комплекс с 25-метровым плавательным бассейном и универсальным игровым залом в гп. Виллози Ломоносовского муниципального района Ленинградской области
B28: 2020 год | C28: =E28+F28 -> 61311 | E28: 60311 | F28: 1000
A29: ИТОГО: | C29: =E29+F29 -> 317111 | D29: - | E29: =E25 -> 150311 | F29: =F12+F18+F21+F25 -> 166800 | G29: _
